BEGIN:VCALENDAR
VERSION:2.0
PRODID:-//wp-events-plugin.com//7.2.2.1//EN
TZID:Europe/Berlin
X-WR-TIMEZONE:Europe/Berlin
BEGIN:VEVENT
UID:787@shinsonhapkido-seligenstadt.de
DTSTART;TZID=Europe/Berlin:20261130T190000
DTEND;TZID=Europe/Berlin:20261130T200000
DTSTAMP:20260219T085656Z
URL:https://shinsonhapkido-seligenstadt.de/events/ki-do-in-9/
SUMMARY:Ki-Do-In
DESCRIPTION:Ki-Do-In verbindet koreanische Bewegungskunst mit Gesundheitsf
 örderung. In diesem Kurs lernen Sie durch einfache\, klare Bewegungen Ihr
 en Körper besser wahrzunehmen\, Verspannungen zu lösen und Ihre Atmung b
 ewusst einzusetzen. Die Methode kombiniert Bewegungsübungen\, Atemtechnik
 en und Entspannung – geeignet für alle Altersgruppen und Fitnesslevel. 
 Besonders hilfreich bei Stress\, Rückenbeschwerden und zur Regeneration.
CATEGORIES:Ki-Do-In
LOCATION:Bewegungszentrum Il Shim\, Am Leimenweg 11\, Seligenstadt / Frosch
 hausen\, Deutschland
X-APPLE-STRUCTURED-LOCATION;VALUE=URI;X-ADDRESS=Am Leimenweg 11\, Seligenst
 adt / Froschhausen\, Deutschland;X-APPLE-RADIUS=100;X-TITLE=Bewegungszentr
 um Il Shim:geo:0,0
END:VEVENT
BEGIN:VTIMEZONE
TZID:Europe/Berlin
X-LIC-LOCATION:Europe/Berlin
BEGIN:STANDARD
DTSTART:20261025T020000
TZOFFSETFROM:+0200
TZOFFSETTO:+0100
TZNAME:CET
END:STANDARD
END:VTIMEZONE
END:VCALENDAR